BEGIN:VCALENDAR
VERSION:2.0
PRODID:-//Alliance for Women Film Composers - ECPv5.3.1.1//NONSGML v1.0//EN
CALSCALE:GREGORIAN
METHOD:PUBLISH
X-WR-CALNAME:Alliance for Women Film Composers
X-ORIGINAL-URL:https://staging2.theawfc.com
X-WR-CALDESC:Events for Alliance for Women Film Composers
BEGIN:VTIMEZONE
TZID:America/Los_Angeles
BEGIN:DAYLIGHT
TZOFFSETFROM:-0800
TZOFFSETTO:-0700
TZNAME:PDT
DTSTART:20190310T100000
END:DAYLIGHT
BEGIN:STANDARD
TZOFFSETFROM:-0700
TZOFFSETTO:-0800
TZNAME:PST
DTSTART:20191103T090000
END:STANDARD
END:VTIMEZONE
BEGIN:VEVENT
DTSTART;VALUE=DATE:20190328
DTEND;VALUE=DATE:20190401
DTSTAMP:20210513T044658
CREATED:20190312T175954Z
LAST-MODIFIED:20190312T175954Z
UID:3323-1553731200-1554076799@staging2.theawfc.com
SUMMARY:Synthplex
DESCRIPTION:
URL:https://staging2.theawfc.com/event/synthplex/
LOCATION:LA Marriott Burbank Airport Hotel & Convention Center1\, 2500 N Hollywood Way
END:VEVENT
END:VCALENDAR