BEGIN:VCALENDAR
VERSION:2.0
PRODID:-//Alliance for Women Film Composers - ECPv5.3.1.1//NONSGML v1.0//EN
CALSCALE:GREGORIAN
METHOD:PUBLISH
X-WR-CALNAME:Alliance for Women Film Composers
X-ORIGINAL-URL:https://staging2.theawfc.com
X-WR-CALDESC:Events for Alliance for Women Film Composers
BEGIN:VTIMEZONE
TZID:America/Los_Angeles
BEGIN:DAYLIGHT
TZOFFSETFROM:-0800
TZOFFSETTO:-0700
TZNAME:PDT
DTSTART:20180311T100000
END:DAYLIGHT
BEGIN:STANDARD
TZOFFSETFROM:-0700
TZOFFSETTO:-0800
TZNAME:PST
DTSTART:20181104T090000
END:STANDARD
END:VTIMEZONE
BEGIN:VEVENT
DTSTART;TZID=America/Los_Angeles:20180721T180000
DTEND;TZID=America/Los_Angeles:20180721T220000
DTSTAMP:20210926T204454
CREATED:20180709T170405Z
LAST-MODIFIED:20180713T221733Z
UID:2596-1532196000-1532210400@staging2.theawfc.com
SUMMARY:LA Live Score Film Festival with Helix Collective and Academy of Scoring Arts
DESCRIPTION:https://www.eventbrite.com/e/los-angeles-live-score-film-festival-2018-tickets-45877532936 \nThe Los Angeles Live Score Film Festival features short films with original scores performed live-to-picture. The 2018 festival on Saturday\, July 21st at the Barnsdall Gallery Theatre is presented by Helix Collective in collaboration with the Academy of Scoring Arts. Films for the 2018 festival are curated by the faculty at the New York Film Academy – Los Angeles\, the L.A. Film School and Columbia College\, Hollywood. \n6:00pm Composer and Filmmaker Panel \n7:30pm Screening \n9:00pm Reception \nFree Parking in Barnsdall Art Park \nSelected film composers are paired with a winning filmmaker to create an original score for the festival. The film is screened with the score performed live by the renowned performance and recording ensemble\, Helix Collective. The screening includes an interview with the filmmakers and composers with host Brian Ralston\, co-host of the SCOREcast podcast. Awards for Best Picture and Best Musical Score are presented at the close of the festival. \nNow in it’s fifth season\, LALSFF’s goal is to highlight the role of collaboration between composers and filmmakers. Acting like a talent agent\, the festival brings experts in the two disciplines together. At the screenings\, filmmakers and composers hear and see the work of new colleagues\, meet new collaborators\, and establish working relationships with each other. Helix Collective proves that it is possible to get talented\, experienced film musicians to play and record for independent films! \nThe 2018 festival is sponsored by Orange Tree Samples\, Sonic Fuel Studios\, White Bear PR\, ASCAP\, and the Alliance for Women Film Composers. \n2018 Festival Lineup \nAphrodite \nDirector – Nicolas Varela (NYFA) \nComposer – Drum & Lace \nA frustrated career on singing drives Aphrodite to pay with her own flesh and identity for an uncertain opportunity into the industry. \nArrow And Oil \nDirector – Lanyue Zhang (NYFA) \nComposer – George Oldziey \nAround 1010 A.D. during the Northern Song Dynasty. Chen YaoZi\, a civil officer from the imperial court with superb archery skills starts thinking and questioning about the relationship between his archery and his work after he met an old oil seller. \nThe Bag and the Bike \nDirector – David Haye (LAFS) \nComposer – Marco Valerio Antonini \nThe Bag and The Bike follows the journey of a poor little backpack\, as it copes with the realities of being replaced. The film was shot over the course of 48hrs\, for a final class assignment. \nBam Bam \nDirector – Logan McDonald (LAFS) \nComposer – Erik Desiderio \nBam-Bam is a drama about a browbeaten mechanic who wants to keep his girlfriend happy. When he is forced to choose between her and his layabout brother\, he must decide what is best for himself before they decide for him. \nDevil’s Hour \nDirector – Brandon Garman \nComposer – Nathalie Bonin (LAFS) \nAn evil presence has taken possession of Sam and attempts to take the soul of her sister Ash. Ash is forced to fight for her life and murder her beloved sister\, or did she. Now the hour of the devil has struck and the demon claws its way once more into the body of Sam. Will Ash be able to make it out of the house with her soul intact\, or will she fall victim to the demons insatiable hunger? \nLiminal \nDirector – Vicken Joulfayan (NYFA) \nComposer – Shaun Chasin \nNadim tries to escape his own reality but soon realizes that he is being forced to confront it more than ever. \nNiara \nDirector – Victoria Gagieva (NYFA) \nComposer – Steph Kowal \nA lonely child soldier trapped in horrors of African militant group experiences a simple act of humanity from a person she is about to condemn to death. \nL’Ombre Amoureuse \nDirector – Glenn Morisse (LAFS) \nComposer – Joy Ngiaw \nA susceptible college student dreams to escape the charade he’s built to protect himself from people’s judgments. \nThe Pill \nDirector – Oliver Weinmann (NYFA) \nComposer – Jonathan Keith \nA short description of my The Pill is: A dark comedy about a women who is trapped in a relationship and the only way she is able to go on is by taking a pill. \nThere She Was \nDirector – Yesmalem Yeshaw (CCH) \nComposer – Peter Lam \nHe loves her. He loves her not. How many petals will this young lady have to pull to turn her friend into her lover?
URL:https://staging2.theawfc.com/event/la-live-score-film-festival-2018/
LOCATION:Barnsdall Gallery Theater\, 4800 Hollywood Boulevard\, Los Angeles\, CA\, 90027\, United States
END:VEVENT
END:VCALENDAR