BEGIN:VCALENDAR
VERSION:2.0
PRODID:-//Alliance for Women Film Composers - ECPv5.3.1.1//NONSGML v1.0//EN
CALSCALE:GREGORIAN
METHOD:PUBLISH
X-WR-CALNAME:Alliance for Women Film Composers
X-ORIGINAL-URL:https://staging2.theawfc.com
X-WR-CALDESC:Events for Alliance for Women Film Composers
BEGIN:VTIMEZONE
TZID:America/Los_Angeles
BEGIN:DAYLIGHT
TZOFFSETFROM:-0800
TZOFFSETTO:-0700
TZNAME:PDT
DTSTART:20180311T100000
END:DAYLIGHT
BEGIN:STANDARD
TZOFFSETFROM:-0700
TZOFFSETTO:-0800
TZNAME:PST
DTSTART:20181104T090000
END:STANDARD
END:VTIMEZONE
BEGIN:VEVENT
DTSTART;TZID=America/Los_Angeles:20180129T100000
DTEND;TZID=America/Los_Angeles:20180129T120000
DTSTAMP:20210927T053400
CREATED:20190224T045526Z
LAST-MODIFIED:20190224T045526Z
UID:3289-1517220000-1517227200@staging2.theawfc.com
SUMMARY:AWFC Sundance Brunch
DESCRIPTION:
URL:https://staging2.theawfc.com/event/awfc-sundance-brunch-2/
LOCATION:Cafe Terigo
END:VEVENT
END:VCALENDAR