BEGIN:VCALENDAR
VERSION:2.0
PRODID:-//Alliance for Women Film Composers - ECPv5.3.1.1//NONSGML v1.0//EN
CALSCALE:GREGORIAN
METHOD:PUBLISH
X-WR-CALNAME:Alliance for Women Film Composers
X-ORIGINAL-URL:https://staging2.theawfc.com
X-WR-CALDESC:Events for Alliance for Women Film Composers
BEGIN:VTIMEZONE
TZID:America/Los_Angeles
BEGIN:DAYLIGHT
TZOFFSETFROM:-0800
TZOFFSETTO:-0700
TZNAME:PDT
DTSTART:20180311T100000
END:DAYLIGHT
BEGIN:STANDARD
TZOFFSETFROM:-0700
TZOFFSETTO:-0800
TZNAME:PST
DTSTART:20181104T090000
END:STANDARD
END:VTIMEZONE
BEGIN:VEVENT
DTSTART;TZID=America/Los_Angeles:20180606T193000
DTEND;TZID=America/Los_Angeles:20180606T210000
DTSTAMP:20210926T162942
CREATED:20190224T044543Z
LAST-MODIFIED:20190224T044543Z
UID:3268-1528313400-1528318800@staging2.theawfc.com
SUMMARY:AWFC Kathryn Bostic Outreach Event
DESCRIPTION:
URL:https://staging2.theawfc.com/event/awfc-kathryn-bostic-outreach-event/
LOCATION:Home of Lolita Ritmanis\, 13033 Landale St\, Studio City\, CA\, 91604\, United States
END:VEVENT
END:VCALENDAR