BEGIN:VCALENDAR
VERSION:2.0
PRODID:-//Alliance for Women Film Composers - ECPv5.3.1.1//NONSGML v1.0//EN
CALSCALE:GREGORIAN
METHOD:PUBLISH
X-WR-CALNAME:Alliance for Women Film Composers
X-ORIGINAL-URL:https://staging2.theawfc.com
X-WR-CALDESC:Events for Alliance for Women Film Composers
BEGIN:VTIMEZONE
TZID:America/Los_Angeles
BEGIN:DAYLIGHT
TZOFFSETFROM:-0800
TZOFFSETTO:-0700
TZNAME:PDT
DTSTART:20180311T100000
END:DAYLIGHT
BEGIN:STANDARD
TZOFFSETFROM:-0700
TZOFFSETTO:-0800
TZNAME:PST
DTSTART:20181104T090000
END:STANDARD
END:VTIMEZONE
BEGIN:VEVENT
DTSTART;TZID=America/Los_Angeles:20180709T190000
DTEND;TZID=America/Los_Angeles:20180709T220000
DTSTAMP:20210505T144304
CREATED:20190224T044753Z
LAST-MODIFIED:20190224T044753Z
UID:3272-1531162800-1531173600@staging2.theawfc.com
SUMMARY:AWFC & Australian Guild of Screen Composers Gender Equity Committee
DESCRIPTION:
URL:https://staging2.theawfc.com/event/awfc-australian-guild-of-screen-composers-gender-equity-committee/
END:VEVENT
END:VCALENDAR